BEGIN:VCALENDAR
VERSION:2.0
CALSCALE:GREGORIAN
PRODID:UnionActive
BEGIN:VEVENT
UID:11839079@ibew2.org
SUMMARY:Citizens Electric Corporation Unit Meeting
DESCRIPTION:Contact:  \nLink for more information: http://ibew2.org/index.cfm?zone=/unionactive/view_calendar.cfm&calendarID=11839079&thisdate=10/25/2040&useCalSection=main
LOCATION:
URL:http://ibew2.org/index.cfm?zone=/unionactive/view_calendar.cfm&calendarID=11839079&thisdate=10/25/2040&useCalSection=main
DTSTART:20401025T210000Z
DTEND:20401025T210000Z
DTSTAMP:20240229T145532
TRIGGER:-PT60M
END:VEVENT
END:VCALENDAR
