BEGIN:VCALENDAR
VERSION:2.0
CALSCALE:GREGORIAN
PRODID:UnionActive
BEGIN:VEVENT
UID:11839075@ibew2.org
SUMMARY:Citizens Electric Corporation Unit Meeting
DESCRIPTION:Contact:  \nLink for more information: http://ibew2.org/index.cfm?zone=/unionactive/view_calendar.cfm&calendarID=11839075&thisdate=02/23/2040&useCalSection=main
LOCATION:
URL:http://ibew2.org/index.cfm?zone=/unionactive/view_calendar.cfm&calendarID=11839075&thisdate=02/23/2040&useCalSection=main
DTSTART:20400223T220000Z
DTEND:20400223T220000Z
DTSTAMP:20240229T145537
TRIGGER:-PT60M
END:VEVENT
END:VCALENDAR
