BEGIN:VCALENDAR
VERSION:2.0
CALSCALE:GREGORIAN
PRODID:UnionActive
BEGIN:VEVENT
UID:11839074@ibew2.org
SUMMARY:Citizens Electric Corporation Unit Meeting
DESCRIPTION:Contact:  \nLink for more information: http://ibew2.org/index.cfm?zone=/unionactive/view_calendar.cfm&calendarID=11839074&thisdate=12/22/2039&useCalSection=main
LOCATION:
URL:http://ibew2.org/index.cfm?zone=/unionactive/view_calendar.cfm&calendarID=11839074&thisdate=12/22/2039&useCalSection=main
DTSTART:20391222T220000Z
DTEND:20391222T220000Z
DTSTAMP:20240229T145409
TRIGGER:-PT60M
END:VEVENT
END:VCALENDAR
