BEGIN:VCALENDAR
VERSION:2.0
CALSCALE:GREGORIAN
PRODID:UnionActive
BEGIN:VEVENT
UID:11839068@ibew2.org
SUMMARY:Citizens Electric Corporation Unit Meeting
DESCRIPTION:Contact:  \nLink for more information: http://ibew2.org/index.cfm?zone=/unionactive/view_calendar.cfm&calendarID=11839068&thisdate=12/23/2038&useCalSection=main
LOCATION:
URL:http://ibew2.org/index.cfm?zone=/unionactive/view_calendar.cfm&calendarID=11839068&thisdate=12/23/2038&useCalSection=main
DTSTART:20381223T220000Z
DTEND:20381223T220000Z
DTSTAMP:20240229T145211
TRIGGER:-PT60M
END:VEVENT
END:VCALENDAR
