BEGIN:VCALENDAR
VERSION:2.0
CALSCALE:GREGORIAN
PRODID:UnionActive
BEGIN:VEVENT
UID:11839058@ibew2.org
SUMMARY:Citizens Electric Corporation Unit Meeting
DESCRIPTION:Contact:  \nLink for more information: http://ibew2.org/index.cfm?zone=/unionactive/view_calendar.cfm&calendarID=11839058&thisdate=04/23/2037&useCalSection=main
LOCATION:
URL:http://ibew2.org/index.cfm?zone=/unionactive/view_calendar.cfm&calendarID=11839058&thisdate=04/23/2037&useCalSection=main
DTSTART:20370423T210000Z
DTEND:20370423T210000Z
DTSTAMP:20240229T145005
TRIGGER:-PT60M
END:VEVENT
END:VCALENDAR
