BEGIN:VCALENDAR
VERSION:2.0
CALSCALE:GREGORIAN
PRODID:UnionActive
BEGIN:VEVENT
UID:11839055@ibew2.org
SUMMARY:Citizens Electric Corporation Unit Meeting
DESCRIPTION:Contact:  \nLink for more information: http://ibew2.org/index.cfm?zone=/unionactive/view_calendar.cfm&calendarID=11839055&thisdate=10/23/2036&useCalSection=main
LOCATION:
URL:http://ibew2.org/index.cfm?zone=/unionactive/view_calendar.cfm&calendarID=11839055&thisdate=10/23/2036&useCalSection=main
DTSTART:20361023T210000Z
DTEND:20361023T210000Z
DTSTAMP:20240229T144814
TRIGGER:-PT60M
END:VEVENT
END:VCALENDAR
