BEGIN:VCALENDAR
VERSION:2.0
CALSCALE:GREGORIAN
PRODID:UnionActive
BEGIN:VEVENT
UID:11839052@ibew2.org
SUMMARY:Citizens Electric Corporation Unit Meeting
DESCRIPTION:Contact:  \nLink for more information: http://ibew2.org/index.cfm?zone=/unionactive/view_calendar.cfm&calendarID=11839052&thisdate=04/24/2036&useCalSection=main
LOCATION:
URL:http://ibew2.org/index.cfm?zone=/unionactive/view_calendar.cfm&calendarID=11839052&thisdate=04/24/2036&useCalSection=main
DTSTART:20360424T210000Z
DTEND:20360424T210000Z
DTSTAMP:20240229T144820
TRIGGER:-PT60M
END:VEVENT
END:VCALENDAR
