BEGIN:VCALENDAR
VERSION:2.0
CALSCALE:GREGORIAN
PRODID:UnionActive
BEGIN:VEVENT
UID:11839043@ibew2.org
SUMMARY:Citizens Electric Corporation Unit Meeting
DESCRIPTION:Contact:  \nLink for more information: http://ibew2.org/index.cfm?zone=/unionactive/view_calendar.cfm&calendarID=11839043&thisdate=10/26/2034&useCalSection=main
LOCATION:
URL:http://ibew2.org/index.cfm?zone=/unionactive/view_calendar.cfm&calendarID=11839043&thisdate=10/26/2034&useCalSection=main
DTSTART:20341026T210000Z
DTEND:20341026T210000Z
DTSTAMP:20240229T144258
TRIGGER:-PT60M
END:VEVENT
END:VCALENDAR
