BEGIN:VCALENDAR
VERSION:2.0
CALSCALE:GREGORIAN
PRODID:UnionActive
BEGIN:VEVENT
UID:11839035@ibew2.org
SUMMARY:Citizens Electric Corporation Unit Meeting
DESCRIPTION:Contact:  \nLink for more information: http://ibew2.org/index.cfm?zone=/unionactive/view_calendar.cfm&calendarID=11839035&thisdate=06/23/2033&useCalSection=main
LOCATION:
URL:http://ibew2.org/index.cfm?zone=/unionactive/view_calendar.cfm&calendarID=11839035&thisdate=06/23/2033&useCalSection=main
DTSTART:20330623T210000Z
DTEND:20330623T210000Z
DTSTAMP:20240229T144030
TRIGGER:-PT60M
END:VEVENT
END:VCALENDAR
