BEGIN:VCALENDAR
VERSION:2.0
CALSCALE:GREGORIAN
PRODID:UnionActive
BEGIN:VEVENT
UID:11839031@ibew2.org
SUMMARY:Citizens Electric Corporation Unit Meeting
DESCRIPTION:Contact:  \nLink for more information: http://ibew2.org/index.cfm?zone=/unionactive/view_calendar.cfm&calendarID=11839031&thisdate=10/28/2032&useCalSection=main
LOCATION:
URL:http://ibew2.org/index.cfm?zone=/unionactive/view_calendar.cfm&calendarID=11839031&thisdate=10/28/2032&useCalSection=main
DTSTART:20321028T210000Z
DTEND:20321028T210000Z
DTSTAMP:20240229T143930
TRIGGER:-PT60M
END:VEVENT
END:VCALENDAR
