BEGIN:VCALENDAR
VERSION:2.0
CALSCALE:GREGORIAN
PRODID:UnionActive
BEGIN:VEVENT
UID:11839030@ibew2.org
SUMMARY:Citizens Electric Corporation Unit Meeting
DESCRIPTION:Contact:  \nLink for more information: http://ibew2.org/index.cfm?zone=/unionactive/view_calendar.cfm&calendarID=11839030&thisdate=08/26/2032&useCalSection=main
LOCATION:
URL:http://ibew2.org/index.cfm?zone=/unionactive/view_calendar.cfm&calendarID=11839030&thisdate=08/26/2032&useCalSection=main
DTSTART:20320826T210000Z
DTEND:20320826T210000Z
DTSTAMP:20240229T143901
TRIGGER:-PT60M
END:VEVENT
END:VCALENDAR
