BEGIN:VCALENDAR
VERSION:2.0
CALSCALE:GREGORIAN
PRODID:UnionActive
BEGIN:VEVENT
UID:11839008@ibew2.org
SUMMARY:Citizens Electric Corporation Unit Meeting
DESCRIPTION:Contact:  \nLink for more information: http://ibew2.org/index.cfm?zone=/unionactive/view_calendar.cfm&calendarID=11839008&thisdate=12/28/2028&useCalSection=main
LOCATION:
URL:http://ibew2.org/index.cfm?zone=/unionactive/view_calendar.cfm&calendarID=11839008&thisdate=12/28/2028&useCalSection=main
DTSTART:20281228T220000Z
DTEND:20281228T220000Z
DTSTAMP:20240229T143241
TRIGGER:-PT60M
END:VEVENT
END:VCALENDAR
