BEGIN:VCALENDAR
VERSION:2.0
CALSCALE:GREGORIAN
PRODID:UnionActive
BEGIN:VEVENT
UID:11839001@ibew2.org
SUMMARY:Citizens Electric Corporation Unit Meeting
DESCRIPTION:Contact:  \nLink for more information: http://ibew2.org/index.cfm?zone=/unionactive/view_calendar.cfm&calendarID=11839001&thisdate=10/28/2027&useCalSection=main
LOCATION:
URL:http://ibew2.org/index.cfm?zone=/unionactive/view_calendar.cfm&calendarID=11839001&thisdate=10/28/2027&useCalSection=main
DTSTART:20271028T210000Z
DTEND:20271028T210000Z
DTSTAMP:20240229T142947
TRIGGER:-PT60M
END:VEVENT
END:VCALENDAR
