BEGIN:VCALENDAR
VERSION:2.0
CALSCALE:GREGORIAN
PRODID:UnionActive
BEGIN:VEVENT
UID:11838979@ibew2.org
SUMMARY:Citizens Electric Corporation Unit Meeting
DESCRIPTION:Contact:  \nLink for more information: http://ibew2.org/index.cfm?zone=/unionactive/view_calendar.cfm&calendarID=11838979&thisdate=02/22/2024&useCalSection=main
LOCATION:
URL:http://ibew2.org/index.cfm?zone=/unionactive/view_calendar.cfm&calendarID=11838979&thisdate=02/22/2024&useCalSection=main
DTSTART:20240222T220000Z
DTEND:20240222T220000Z
DTSTAMP:20240229T140324
TRIGGER:-PT60M
END:VEVENT
END:VCALENDAR
