BEGIN:VCALENDAR
VERSION:2.0
CALSCALE:GREGORIAN
PRODID:UnionActive
BEGIN:VEVENT
UID:11838967@ibew2.org
SUMMARY:Citizens Electric Corporation Unit Meeting
DESCRIPTION:Contact:  \nLink for more information: http://ibew2.org/index.cfm?zone=/unionactive/view_calendar.cfm&calendarID=11838967&thisdate=02/24/2022&useCalSection=main
LOCATION:
URL:http://ibew2.org/index.cfm?zone=/unionactive/view_calendar.cfm&calendarID=11838967&thisdate=02/24/2022&useCalSection=main
DTSTART:20220224T220000Z
DTEND:20220224T220000Z
DTSTAMP:20240229T142612
TRIGGER:-PT60M
END:VEVENT
END:VCALENDAR
