BEGIN:VCALENDAR
VERSION:2.0
CALSCALE:GREGORIAN
PRODID:UnionActive
BEGIN:VEVENT
UID:11838966@ibew2.org
SUMMARY:Citizens Electric Corporation Unit Meeting
DESCRIPTION:Contact:  \nLink for more information: http://ibew2.org/index.cfm?zone=/unionactive/view_calendar.cfm&calendarID=11838966&thisdate=12/23/2021&useCalSection=main
LOCATION:
URL:http://ibew2.org/index.cfm?zone=/unionactive/view_calendar.cfm&calendarID=11838966&thisdate=12/23/2021&useCalSection=main
DTSTART:20211223T220000Z
DTEND:20211223T220000Z
DTSTAMP:20240229T142913
TRIGGER:-PT60M
END:VEVENT
END:VCALENDAR
