BEGIN:VCALENDAR
VERSION:2.0
CALSCALE:GREGORIAN
PRODID:UnionActive
BEGIN:VEVENT
UID:11838945@ibew2.org
SUMMARY:Crawford Electric Cooperative Unit Meeting
DESCRIPTION:Contact:  \nLink for more information: http://ibew2.org/index.cfm?zone=/unionactive/view_calendar.cfm&calendarID=11838945&thisdate=06/16/2043&useCalSection=main
LOCATION:
URL:http://ibew2.org/index.cfm?zone=/unionactive/view_calendar.cfm&calendarID=11838945&thisdate=06/16/2043&useCalSection=main
DTSTART:20430616T213000Z
DTEND:20430616T213000Z
DTSTAMP:20240229T150130
TRIGGER:-PT60M
END:VEVENT
END:VCALENDAR
