BEGIN:VCALENDAR
VERSION:2.0
CALSCALE:GREGORIAN
PRODID:UnionActive
BEGIN:VEVENT
UID:11838936@ibew2.org
SUMMARY:Crawford Electric Cooperative Unit Meeting
DESCRIPTION:Contact:  \nLink for more information: http://ibew2.org/index.cfm?zone=/unionactive/view_calendar.cfm&calendarID=11838936&thisdate=12/17/2041&useCalSection=main
LOCATION:
URL:http://ibew2.org/index.cfm?zone=/unionactive/view_calendar.cfm&calendarID=11838936&thisdate=12/17/2041&useCalSection=main
DTSTART:20411217T223000Z
DTEND:20411217T223000Z
DTSTAMP:20240229T145758
TRIGGER:-PT60M
END:VEVENT
END:VCALENDAR
