BEGIN:VCALENDAR
VERSION:2.0
CALSCALE:GREGORIAN
PRODID:UnionActive
BEGIN:VEVENT
UID:11838921@ibew2.org
SUMMARY:Crawford Electric Cooperative Unit Meeting
DESCRIPTION:Contact:  \nLink for more information: http://ibew2.org/index.cfm?zone=/unionactive/view_calendar.cfm&calendarID=11838921&thisdate=06/21/2039&useCalSection=main
LOCATION:
URL:http://ibew2.org/index.cfm?zone=/unionactive/view_calendar.cfm&calendarID=11838921&thisdate=06/21/2039&useCalSection=main
DTSTART:20390621T213000Z
DTEND:20390621T213000Z
DTSTAMP:20240229T145408
TRIGGER:-PT60M
END:VEVENT
END:VCALENDAR
