BEGIN:VCALENDAR
VERSION:2.0
CALSCALE:GREGORIAN
PRODID:UnionActive
BEGIN:VEVENT
UID:11838912@ibew2.org
SUMMARY:Crawford Electric Cooperative Unit Meeting
DESCRIPTION:Contact:  \nLink for more information: http://ibew2.org/index.cfm?zone=/unionactive/view_calendar.cfm&calendarID=11838912&thisdate=12/15/2037&useCalSection=main
LOCATION:
URL:http://ibew2.org/index.cfm?zone=/unionactive/view_calendar.cfm&calendarID=11838912&thisdate=12/15/2037&useCalSection=main
DTSTART:20371215T223000Z
DTEND:20371215T223000Z
DTSTAMP:20240229T145016
TRIGGER:-PT60M
END:VEVENT
END:VCALENDAR
