BEGIN:VCALENDAR
VERSION:2.0
CALSCALE:GREGORIAN
PRODID:UnionActive
BEGIN:VEVENT
UID:11838881@ibew2.org
SUMMARY:Crawford Electric Cooperative Unit Meeting
DESCRIPTION:Contact:  \nLink for more information: http://ibew2.org/index.cfm?zone=/unionactive/view_calendar.cfm&calendarID=11838881&thisdate=10/19/2032&useCalSection=main
LOCATION:
URL:http://ibew2.org/index.cfm?zone=/unionactive/view_calendar.cfm&calendarID=11838881&thisdate=10/19/2032&useCalSection=main
DTSTART:20321019T213000Z
DTEND:20321019T213000Z
DTSTAMP:20240229T143852
TRIGGER:-PT60M
END:VEVENT
END:VCALENDAR
