BEGIN:VCALENDAR
VERSION:2.0
CALSCALE:GREGORIAN
PRODID:UnionActive
BEGIN:VEVENT
UID:11838869@ibew2.org
SUMMARY:Crawford Electric Cooperative Unit Meeting
DESCRIPTION:Contact:  \nLink for more information: http://ibew2.org/index.cfm?zone=/unionactive/view_calendar.cfm&calendarID=11838869&thisdate=10/15/2030&useCalSection=main
LOCATION:
URL:http://ibew2.org/index.cfm?zone=/unionactive/view_calendar.cfm&calendarID=11838869&thisdate=10/15/2030&useCalSection=main
DTSTART:20301015T213000Z
DTEND:20301015T213000Z
DTSTAMP:20240229T143551
TRIGGER:-PT60M
END:VEVENT
END:VCALENDAR
