BEGIN:VCALENDAR
VERSION:2.0
CALSCALE:GREGORIAN
PRODID:UnionActive
BEGIN:VEVENT
UID:11838861@ibew2.org
SUMMARY:Crawford Electric Cooperative Unit Meeting
DESCRIPTION:Contact:  \nLink for more information: http://ibew2.org/index.cfm?zone=/unionactive/view_calendar.cfm&calendarID=11838861&thisdate=06/19/2029&useCalSection=main
LOCATION:
URL:http://ibew2.org/index.cfm?zone=/unionactive/view_calendar.cfm&calendarID=11838861&thisdate=06/19/2029&useCalSection=main
DTSTART:20290619T213000Z
DTEND:20290619T213000Z
DTSTAMP:20240229T143419
TRIGGER:-PT60M
END:VEVENT
END:VCALENDAR
