BEGIN:VCALENDAR
VERSION:2.0
CALSCALE:GREGORIAN
PRODID:UnionActive
BEGIN:VEVENT
UID:11838857@ibew2.org
SUMMARY:Crawford Electric Cooperative Unit Meeting
DESCRIPTION:Contact:  \nLink for more information: http://ibew2.org/index.cfm?zone=/unionactive/view_calendar.cfm&calendarID=11838857&thisdate=10/17/2028&useCalSection=main
LOCATION:
URL:http://ibew2.org/index.cfm?zone=/unionactive/view_calendar.cfm&calendarID=11838857&thisdate=10/17/2028&useCalSection=main
DTSTART:20281017T213000Z
DTEND:20281017T213000Z
DTSTAMP:20240229T143215
TRIGGER:-PT60M
END:VEVENT
END:VCALENDAR
