BEGIN:VCALENDAR
VERSION:2.0
CALSCALE:GREGORIAN
PRODID:UnionActive
BEGIN:VEVENT
UID:11838853@ibew2.org
SUMMARY:Crawford Electric Cooperative Unit Meeting
DESCRIPTION:Contact:  \nLink for more information: http://ibew2.org/index.cfm?zone=/unionactive/view_calendar.cfm&calendarID=11838853&thisdate=02/15/2028&useCalSection=main
LOCATION:
URL:http://ibew2.org/index.cfm?zone=/unionactive/view_calendar.cfm&calendarID=11838853&thisdate=02/15/2028&useCalSection=main
DTSTART:20280215T223000Z
DTEND:20280215T223000Z
DTSTAMP:20240229T143240
TRIGGER:-PT60M
END:VEVENT
END:VCALENDAR
