BEGIN:VCALENDAR
VERSION:2.0
CALSCALE:GREGORIAN
PRODID:UnionActive
BEGIN:VEVENT
UID:11838819@ibew2.org
SUMMARY:Crawford Electric Cooperative Unit Meeting
DESCRIPTION:Contact:  \nLink for more information: http://ibew2.org/index.cfm?zone=/unionactive/view_calendar.cfm&calendarID=11838819&thisdate=06/21/2022&useCalSection=main
LOCATION:
URL:http://ibew2.org/index.cfm?zone=/unionactive/view_calendar.cfm&calendarID=11838819&thisdate=06/21/2022&useCalSection=main
DTSTART:20220621T213000Z
DTEND:20220621T213000Z
DTSTAMP:20240229T142648
TRIGGER:-PT60M
END:VEVENT
END:VCALENDAR
