BEGIN:VCALENDAR
VERSION:2.0
CALSCALE:GREGORIAN
PRODID:UnionActive
BEGIN:VEVENT
UID:11838808@ibew2.org
SUMMARY:RENEW Meeting
DESCRIPTION:Contact:  \nLink for more information: http://ibew2.org/index.cfm?zone=/unionactive/view_calendar.cfm&calendarID=11838808&thisdate=02/12/2046&useCalSection=main
LOCATION:
URL:http://ibew2.org/index.cfm?zone=/unionactive/view_calendar.cfm&calendarID=11838808&thisdate=02/12/2046&useCalSection=main
DTSTART:20460213T000000Z
DTEND:20460213T004500Z
DTSTAMP:20240229T150607
TRIGGER:-PT60M
END:VEVENT
END:VCALENDAR
