BEGIN:VCALENDAR
VERSION:2.0
CALSCALE:GREGORIAN
PRODID:UnionActive
BEGIN:VEVENT
UID:11838797@ibew2.org
SUMMARY:RENEW Meeting
DESCRIPTION:Contact:  \nLink for more information: http://ibew2.org/index.cfm?zone=/unionactive/view_calendar.cfm&calendarID=11838797&thisdate=03/13/2045&useCalSection=main
LOCATION:
URL:http://ibew2.org/index.cfm?zone=/unionactive/view_calendar.cfm&calendarID=11838797&thisdate=03/13/2045&useCalSection=main
DTSTART:20450313T230000Z
DTEND:20450313T234500Z
DTSTAMP:20240229T150453
TRIGGER:-PT60M
END:VEVENT
END:VCALENDAR
