BEGIN:VCALENDAR
VERSION:2.0
CALSCALE:GREGORIAN
PRODID:UnionActive
BEGIN:VEVENT
UID:11838795@ibew2.org
SUMMARY:RENEW Meeting
DESCRIPTION:Contact:  \nLink for more information: http://ibew2.org/index.cfm?zone=/unionactive/view_calendar.cfm&calendarID=11838795&thisdate=01/09/2045&useCalSection=main
LOCATION:
URL:http://ibew2.org/index.cfm?zone=/unionactive/view_calendar.cfm&calendarID=11838795&thisdate=01/09/2045&useCalSection=main
DTSTART:20450110T000000Z
DTEND:20450110T004500Z
DTSTAMP:20240229T150512
TRIGGER:-PT60M
END:VEVENT
END:VCALENDAR
