BEGIN:VCALENDAR
VERSION:2.0
CALSCALE:GREGORIAN
PRODID:UnionActive
BEGIN:VEVENT
UID:11838789@ibew2.org
SUMMARY:RENEW Meeting
DESCRIPTION:Contact:  \nLink for more information: http://ibew2.org/index.cfm?zone=/unionactive/view_calendar.cfm&calendarID=11838789&thisdate=07/11/2044&useCalSection=main
LOCATION:
URL:http://ibew2.org/index.cfm?zone=/unionactive/view_calendar.cfm&calendarID=11838789&thisdate=07/11/2044&useCalSection=main
DTSTART:20440711T230000Z
DTEND:20440711T234500Z
DTSTAMP:20240229T150256
TRIGGER:-PT60M
END:VEVENT
END:VCALENDAR
