BEGIN:VCALENDAR
VERSION:2.0
CALSCALE:GREGORIAN
PRODID:UnionActive
BEGIN:VEVENT
UID:11838780@ibew2.org
SUMMARY:RENEW Meeting
DESCRIPTION:Contact:  \nLink for more information: http://ibew2.org/index.cfm?zone=/unionactive/view_calendar.cfm&calendarID=11838780&thisdate=10/12/2043&useCalSection=main
LOCATION:
URL:http://ibew2.org/index.cfm?zone=/unionactive/view_calendar.cfm&calendarID=11838780&thisdate=10/12/2043&useCalSection=main
DTSTART:20431012T230000Z
DTEND:20431012T234500Z
DTSTAMP:20240229T150128
TRIGGER:-PT60M
END:VEVENT
END:VCALENDAR
