BEGIN:VCALENDAR
VERSION:2.0
CALSCALE:GREGORIAN
PRODID:UnionActive
BEGIN:VEVENT
UID:11838776@ibew2.org
SUMMARY:RENEW Meeting
DESCRIPTION:Contact:  \nLink for more information: http://ibew2.org/index.cfm?zone=/unionactive/view_calendar.cfm&calendarID=11838776&thisdate=06/08/2043&useCalSection=main
LOCATION:
URL:http://ibew2.org/index.cfm?zone=/unionactive/view_calendar.cfm&calendarID=11838776&thisdate=06/08/2043&useCalSection=main
DTSTART:20430608T230000Z
DTEND:20430608T234500Z
DTSTAMP:20240229T150124
TRIGGER:-PT60M
END:VEVENT
END:VCALENDAR
