BEGIN:VCALENDAR
VERSION:2.0
CALSCALE:GREGORIAN
PRODID:UnionActive
BEGIN:VEVENT
UID:11838773@ibew2.org
SUMMARY:RENEW Meeting
DESCRIPTION:Contact:  \nLink for more information: http://ibew2.org/index.cfm?zone=/unionactive/view_calendar.cfm&calendarID=11838773&thisdate=03/09/2043&useCalSection=main
LOCATION:
URL:http://ibew2.org/index.cfm?zone=/unionactive/view_calendar.cfm&calendarID=11838773&thisdate=03/09/2043&useCalSection=main
DTSTART:20430309T230000Z
DTEND:20430309T234500Z
DTSTAMP:20240229T150054
TRIGGER:-PT60M
END:VEVENT
END:VCALENDAR
