BEGIN:VCALENDAR
VERSION:2.0
CALSCALE:GREGORIAN
PRODID:UnionActive
BEGIN:VEVENT
UID:11838747@ibew2.org
SUMMARY:RENEW Meeting
DESCRIPTION:Contact:  \nLink for more information: http://ibew2.org/index.cfm?zone=/unionactive/view_calendar.cfm&calendarID=11838747&thisdate=01/14/2041&useCalSection=main
LOCATION:
URL:http://ibew2.org/index.cfm?zone=/unionactive/view_calendar.cfm&calendarID=11838747&thisdate=01/14/2041&useCalSection=main
DTSTART:20410115T000000Z
DTEND:20410115T004500Z
DTSTAMP:20240229T145758
TRIGGER:-PT60M
END:VEVENT
END:VCALENDAR
