BEGIN:VCALENDAR
VERSION:2.0
CALSCALE:GREGORIAN
PRODID:UnionActive
BEGIN:VEVENT
UID:11838746@ibew2.org
SUMMARY:RENEW Meeting
DESCRIPTION:Contact:  \nLink for more information: http://ibew2.org/index.cfm?zone=/unionactive/view_calendar.cfm&calendarID=11838746&thisdate=12/10/2040&useCalSection=main
LOCATION:
URL:http://ibew2.org/index.cfm?zone=/unionactive/view_calendar.cfm&calendarID=11838746&thisdate=12/10/2040&useCalSection=main
DTSTART:20401211T000000Z
DTEND:20401211T004500Z
DTSTAMP:20240229T145538
TRIGGER:-PT60M
END:VEVENT
END:VCALENDAR
