BEGIN:VCALENDAR
VERSION:2.0
CALSCALE:GREGORIAN
PRODID:UnionActive
BEGIN:VEVENT
UID:11838735@ibew2.org
SUMMARY:RENEW Meeting
DESCRIPTION:Contact:  \nLink for more information: http://ibew2.org/index.cfm?zone=/unionactive/view_calendar.cfm&calendarID=11838735&thisdate=01/09/2040&useCalSection=main
LOCATION:
URL:http://ibew2.org/index.cfm?zone=/unionactive/view_calendar.cfm&calendarID=11838735&thisdate=01/09/2040&useCalSection=main
DTSTART:20400110T000000Z
DTEND:20400110T004500Z
DTSTAMP:20240229T145519
TRIGGER:-PT60M
END:VEVENT
END:VCALENDAR
