BEGIN:VCALENDAR
VERSION:2.0
CALSCALE:GREGORIAN
PRODID:UnionActive
BEGIN:VEVENT
UID:11838734@ibew2.org
SUMMARY:RENEW Meeting
DESCRIPTION:Contact:  \nLink for more information: http://ibew2.org/index.cfm?zone=/unionactive/view_calendar.cfm&calendarID=11838734&thisdate=12/12/2039&useCalSection=main
LOCATION:
URL:http://ibew2.org/index.cfm?zone=/unionactive/view_calendar.cfm&calendarID=11838734&thisdate=12/12/2039&useCalSection=main
DTSTART:20391213T000000Z
DTEND:20391213T004500Z
DTSTAMP:20240229T145324
TRIGGER:-PT60M
END:VEVENT
END:VCALENDAR
