BEGIN:VCALENDAR
VERSION:2.0
CALSCALE:GREGORIAN
PRODID:UnionActive
BEGIN:VEVENT
UID:11838724@ibew2.org
SUMMARY:RENEW Meeting
DESCRIPTION:Contact:  \nLink for more information: http://ibew2.org/index.cfm?zone=/unionactive/view_calendar.cfm&calendarID=11838724&thisdate=02/14/2039&useCalSection=main
LOCATION:
URL:http://ibew2.org/index.cfm?zone=/unionactive/view_calendar.cfm&calendarID=11838724&thisdate=02/14/2039&useCalSection=main
DTSTART:20390215T000000Z
DTEND:20390215T004500Z
DTSTAMP:20240229T145321
TRIGGER:-PT60M
END:VEVENT
END:VCALENDAR
