BEGIN:VCALENDAR
VERSION:2.0
CALSCALE:GREGORIAN
PRODID:UnionActive
BEGIN:VEVENT
UID:11838721@ibew2.org
SUMMARY:RENEW Meeting
DESCRIPTION:Contact:  \nLink for more information: http://ibew2.org/index.cfm?zone=/unionactive/view_calendar.cfm&calendarID=11838721&thisdate=11/08/2038&useCalSection=main
LOCATION:
URL:http://ibew2.org/index.cfm?zone=/unionactive/view_calendar.cfm&calendarID=11838721&thisdate=11/08/2038&useCalSection=main
DTSTART:20381109T000000Z
DTEND:20381109T004500Z
DTSTAMP:20240229T145137
TRIGGER:-PT60M
END:VEVENT
END:VCALENDAR
