BEGIN:VCALENDAR
VERSION:2.0
CALSCALE:GREGORIAN
PRODID:UnionActive
BEGIN:VEVENT
UID:11838700@ibew2.org
SUMMARY:RENEW Meeting
DESCRIPTION:Contact:  \nLink for more information: http://ibew2.org/index.cfm?zone=/unionactive/view_calendar.cfm&calendarID=11838700&thisdate=02/09/2037&useCalSection=main
LOCATION:
URL:http://ibew2.org/index.cfm?zone=/unionactive/view_calendar.cfm&calendarID=11838700&thisdate=02/09/2037&useCalSection=main
DTSTART:20370210T000000Z
DTEND:20370210T004500Z
DTSTAMP:20240229T145018
TRIGGER:-PT60M
END:VEVENT
END:VCALENDAR
