BEGIN:VCALENDAR
VERSION:2.0
CALSCALE:GREGORIAN
PRODID:UnionActive
BEGIN:VEVENT
UID:11838696@ibew2.org
SUMMARY:RENEW Meeting
DESCRIPTION:Contact:  \nLink for more information: http://ibew2.org/index.cfm?zone=/unionactive/view_calendar.cfm&calendarID=11838696&thisdate=10/13/2036&useCalSection=main
LOCATION:
URL:http://ibew2.org/index.cfm?zone=/unionactive/view_calendar.cfm&calendarID=11838696&thisdate=10/13/2036&useCalSection=main
DTSTART:20361013T230000Z
DTEND:20361013T234500Z
DTSTAMP:20240229T144739
TRIGGER:-PT60M
END:VEVENT
END:VCALENDAR
