BEGIN:VCALENDAR
VERSION:2.0
CALSCALE:GREGORIAN
PRODID:UnionActive
BEGIN:VEVENT
UID:11838692@ibew2.org
SUMMARY:RENEW Meeting
DESCRIPTION:Contact:  \nLink for more information: http://ibew2.org/index.cfm?zone=/unionactive/view_calendar.cfm&calendarID=11838692&thisdate=06/09/2036&useCalSection=main
LOCATION:
URL:http://ibew2.org/index.cfm?zone=/unionactive/view_calendar.cfm&calendarID=11838692&thisdate=06/09/2036&useCalSection=main
DTSTART:20360609T230000Z
DTEND:20360609T234500Z
DTSTAMP:20240229T144734
TRIGGER:-PT60M
END:VEVENT
END:VCALENDAR
