BEGIN:VCALENDAR
VERSION:2.0
CALSCALE:GREGORIAN
PRODID:UnionActive
BEGIN:VEVENT
UID:11838671@ibew2.org
SUMMARY:RENEW Meeting
DESCRIPTION:Contact:  \nLink for more information: http://ibew2.org/index.cfm?zone=/unionactive/view_calendar.cfm&calendarID=11838671&thisdate=09/11/2034&useCalSection=main
LOCATION:
URL:http://ibew2.org/index.cfm?zone=/unionactive/view_calendar.cfm&calendarID=11838671&thisdate=09/11/2034&useCalSection=main
DTSTART:20340911T230000Z
DTEND:20340911T234500Z
DTSTAMP:20240229T144258
TRIGGER:-PT60M
END:VEVENT
END:VCALENDAR
