BEGIN:VCALENDAR
VERSION:2.0
CALSCALE:GREGORIAN
PRODID:UnionActive
BEGIN:VEVENT
UID:11838660@ibew2.org
SUMMARY:RENEW Meeting
DESCRIPTION:Contact:  \nLink for more information: http://ibew2.org/index.cfm?zone=/unionactive/view_calendar.cfm&calendarID=11838660&thisdate=10/10/2033&useCalSection=main
LOCATION:
URL:http://ibew2.org/index.cfm?zone=/unionactive/view_calendar.cfm&calendarID=11838660&thisdate=10/10/2033&useCalSection=main
DTSTART:20331010T230000Z
DTEND:20331010T234500Z
DTSTAMP:20240229T144103
TRIGGER:-PT60M
END:VEVENT
END:VCALENDAR
