BEGIN:VCALENDAR
VERSION:2.0
CALSCALE:GREGORIAN
PRODID:UnionActive
BEGIN:VEVENT
UID:11838637@ibew2.org
SUMMARY:RENEW Meeting
DESCRIPTION:Contact:  \nLink for more information: http://ibew2.org/index.cfm?zone=/unionactive/view_calendar.cfm&calendarID=11838637&thisdate=11/10/2031&useCalSection=main
LOCATION:
URL:http://ibew2.org/index.cfm?zone=/unionactive/view_calendar.cfm&calendarID=11838637&thisdate=11/10/2031&useCalSection=main
DTSTART:20311111T000000Z
DTEND:20311111T004500Z
DTSTAMP:20240229T143752
TRIGGER:-PT60M
END:VEVENT
END:VCALENDAR
