BEGIN:VCALENDAR
VERSION:2.0
CALSCALE:GREGORIAN
PRODID:UnionActive
BEGIN:VEVENT
UID:11838634@ibew2.org
SUMMARY:RENEW Meeting
DESCRIPTION:Contact:  \nLink for more information: http://ibew2.org/index.cfm?zone=/unionactive/view_calendar.cfm&calendarID=11838634&thisdate=08/11/2031&useCalSection=main
LOCATION:
URL:http://ibew2.org/index.cfm?zone=/unionactive/view_calendar.cfm&calendarID=11838634&thisdate=08/11/2031&useCalSection=main
DTSTART:20310811T230000Z
DTEND:20310811T234500Z
DTSTAMP:20240229T143756
TRIGGER:-PT60M
END:VEVENT
END:VCALENDAR
