BEGIN:VCALENDAR
VERSION:2.0
CALSCALE:GREGORIAN
PRODID:UnionActive
BEGIN:VEVENT
UID:11838627@ibew2.org
SUMMARY:RENEW Meeting
DESCRIPTION:Contact:  \nLink for more information: http://ibew2.org/index.cfm?zone=/unionactive/view_calendar.cfm&calendarID=11838627&thisdate=01/13/2031&useCalSection=main
LOCATION:
URL:http://ibew2.org/index.cfm?zone=/unionactive/view_calendar.cfm&calendarID=11838627&thisdate=01/13/2031&useCalSection=main
DTSTART:20310114T000000Z
DTEND:20310114T004500Z
DTSTAMP:20240229T143751
TRIGGER:-PT60M
END:VEVENT
END:VCALENDAR
