BEGIN:VCALENDAR
VERSION:2.0
CALSCALE:GREGORIAN
PRODID:UnionActive
BEGIN:VEVENT
UID:11838620@ibew2.org
SUMMARY:RENEW Meeting
DESCRIPTION:Contact:  \nLink for more information: http://ibew2.org/index.cfm?zone=/unionactive/view_calendar.cfm&calendarID=11838620&thisdate=06/10/2030&useCalSection=main
LOCATION:
URL:http://ibew2.org/index.cfm?zone=/unionactive/view_calendar.cfm&calendarID=11838620&thisdate=06/10/2030&useCalSection=main
DTSTART:20300610T230000Z
DTEND:20300610T234500Z
DTSTAMP:20240229T143558
TRIGGER:-PT60M
END:VEVENT
END:VCALENDAR
