BEGIN:VCALENDAR
VERSION:2.0
CALSCALE:GREGORIAN
PRODID:UnionActive
BEGIN:VEVENT
UID:11838613@ibew2.org
SUMMARY:RENEW Meeting
DESCRIPTION:Contact:  \nLink for more information: http://ibew2.org/index.cfm?zone=/unionactive/view_calendar.cfm&calendarID=11838613&thisdate=11/12/2029&useCalSection=main
LOCATION:
URL:http://ibew2.org/index.cfm?zone=/unionactive/view_calendar.cfm&calendarID=11838613&thisdate=11/12/2029&useCalSection=main
DTSTART:20291113T000000Z
DTEND:20291113T004500Z
DTSTAMP:20240229T143409
TRIGGER:-PT60M
END:VEVENT
END:VCALENDAR
