BEGIN:VCALENDAR
VERSION:2.0
CALSCALE:GREGORIAN
PRODID:UnionActive
BEGIN:VEVENT
UID:11838591@ibew2.org
SUMMARY:RENEW Meeting
DESCRIPTION:Contact:  \nLink for more information: http://ibew2.org/index.cfm?zone=/unionactive/view_calendar.cfm&calendarID=11838591&thisdate=01/10/2028&useCalSection=main
LOCATION:
URL:http://ibew2.org/index.cfm?zone=/unionactive/view_calendar.cfm&calendarID=11838591&thisdate=01/10/2028&useCalSection=main
DTSTART:20280111T000000Z
DTEND:20280111T004500Z
DTSTAMP:20240229T143407
TRIGGER:-PT60M
END:VEVENT
END:VCALENDAR
